BEGIN:VCALENDAR
VERSION:2.0
PRODID:-//Contratero//ES
CALSCALE:GREGORIAN
METHOD:PUBLISH
BEGIN:VEVENT
UID:DNA 204/2019@contratero.es
DTSTAMP:20260423T145310Z
DTSTART:20190806T235959
DTEND:20190807T005959
SUMMARY:Cierre: Implantación del programa técnico de seguridad de 
DESCRIPTION:Implantación del programa técnico de seguridad de ENAIRE\\n\\nOrganismo: Dirección Económico-Financiera de ENAIRE\\n\\nVer en Contratero: https://contratero.es/contracts/DNA 204/2019
URL:https://contratero.es/contracts/DNA 204/2019
STATUS:CONFIRMED
BEGIN:VALARM
TRIGGER:-P1D
ACTION:DISPLAY
DESCRIPTION:Recordatorio: Implantación del programa técn
END:VALARM
END:VEVENT
END:VCALENDAR